BEGIN:VCALENDAR
VERSION:2.0
PRODID:icalendar-ruby
CALSCALE:GREGORIAN
METHOD:PUBLISH
BEGIN:VEVENT
DTSTAMP:20260420T074432Z
UID:8-311116@middleburgunited.tithelysetup2.com
DTSTART:20261210T190000Z
DTEND:20261210T200000Z
CLASS:PUBLIC
CREATED:20260415T111416
DESCRIPTION:
LAST-MODIFIED:20260415T111416
LOCATION:Middleburg UMC 
SUMMARY:Partners in Missions 
URL;VALUE=URI:https://middleburgunited.tithelysetup2.com/events/partners-in
 -missions/2026-12-10
END:VEVENT
END:VCALENDAR
