BEGIN:VCALENDAR
VERSION:2.0
PRODID:icalendar-ruby
CALSCALE:GREGORIAN
METHOD:PUBLISH
BEGIN:VEVENT
DTSTAMP:20260419T233649Z
UID:8-311110@middleburgunited.tithelysetup2.com
DTSTART:20260611T180000Z
DTEND:20260611T190000Z
CLASS:PUBLIC
CREATED:20260415T111416
DESCRIPTION:
LAST-MODIFIED:20260415T111416
LOCATION:Middleburg UMC 
SUMMARY:Partners in Missions 
URL;VALUE=URI:https://middleburgunited.tithelysetup2.com/events/partners-in
 -missions/2026-06-11
END:VEVENT
END:VCALENDAR
