BEGIN:VCALENDAR
VERSION:2.0
PRODID:icalendar-ruby
CALSCALE:GREGORIAN
METHOD:PUBLISH
BEGIN:VEVENT
DTSTAMP:20260419T221018Z
UID:8-311109@middleburgunited.tithelysetup2.com
DTSTART:20260514T180000Z
DTEND:20260514T190000Z
CLASS:PUBLIC
CREATED:20260415T111416
DESCRIPTION:
LAST-MODIFIED:20260415T111416
LOCATION:Middleburg UMC 
SUMMARY:Partners in Missions 
URL;VALUE=URI:https://middleburgunited.tithelysetup2.com/events/partners-in
 -missions/2026-05-14
END:VEVENT
END:VCALENDAR
