BEGIN:VCALENDAR
VERSION:2.0
PRODID:icalendar-ruby
CALSCALE:GREGORIAN
METHOD:PUBLISH
BEGIN:VEVENT
DTSTAMP:20260420T005916Z
UID:7-311084@middleburgunited.tithelysetup2.com
DTSTART:20260514T160000Z
DTEND:20260514T170000Z
CLASS:PUBLIC
CREATED:20260415T111203
DESCRIPTION:Join us for a light lunch following prayer. 
LAST-MODIFIED:20260415T111203
LOCATION:Middleburg UMC 
SUMMARY:Noontime Prayer 
URL;VALUE=URI:https://middleburgunited.tithelysetup2.com/events/noontime-pr
 ayer/2026-05-14
END:VEVENT
END:VCALENDAR
