BEGIN:VCALENDAR
VERSION:2.0
PRODID:icalendar-ruby
CALSCALE:GREGORIAN
METHOD:PUBLISH
BEGIN:VEVENT
DTSTAMP:20260419T221009Z
UID:7-311081@middleburgunited.tithelysetup2.com
DTSTART:20260423T160000Z
DTEND:20260423T170000Z
CLASS:PUBLIC
CREATED:20260415T111203
DESCRIPTION:Join us for a light lunch following prayer. 
LAST-MODIFIED:20260415T111203
LOCATION:Middleburg UMC 
SUMMARY:Noontime Prayer 
URL;VALUE=URI:https://middleburgunited.tithelysetup2.com/events/noontime-pr
 ayer/2026-04-23
END:VEVENT
END:VCALENDAR
