BEGIN:VCALENDAR
VERSION:2.0
PRODID:icalendar-ruby
CALSCALE:GREGORIAN
METHOD:PUBLISH
BEGIN:VEVENT
DTSTAMP:20260420T062108Z
UID:6-311078@middleburgunited.tithelysetup2.com
DTSTART:20261119T150000Z
DTEND:20261119T160000Z
CLASS:PUBLIC
CREATED:20260415T110851
DESCRIPTION:
LAST-MODIFIED:20260415T110851
LOCATION:Middleburg UMC 
SUMMARY:Admin Council Meeting 
URL;VALUE=URI:https://middleburgunited.tithelysetup2.com/events/admin-counc
 il-meeting/2026-11-19
END:VEVENT
END:VCALENDAR
