BEGIN:VCALENDAR
VERSION:2.0
PRODID:icalendar-ruby
CALSCALE:GREGORIAN
METHOD:PUBLISH
BEGIN:VEVENT
DTSTAMP:20260420T033506Z
UID:6-311076@middleburgunited.tithelysetup2.com
DTSTART:20260917T140000Z
DTEND:20260917T150000Z
CLASS:PUBLIC
CREATED:20260415T110851
DESCRIPTION:
LAST-MODIFIED:20260415T110851
LOCATION:Middleburg UMC 
SUMMARY:Admin Council Meeting 
URL;VALUE=URI:https://middleburgunited.tithelysetup2.com/events/admin-counc
 il-meeting/2026-09-17
END:VEVENT
END:VCALENDAR
