BEGIN:VCALENDAR
VERSION:2.0
PRODID:icalendar-ruby
CALSCALE:GREGORIAN
METHOD:PUBLISH
BEGIN:VEVENT
DTSTAMP:20260419T233618Z
UID:6-311073@middleburgunited.tithelysetup2.com
DTSTART:20260618T140000Z
DTEND:20260618T150000Z
CLASS:PUBLIC
CREATED:20260415T110851
DESCRIPTION:
LAST-MODIFIED:20260415T110851
LOCATION:Middleburg UMC 
SUMMARY:Admin Council Meeting 
URL;VALUE=URI:https://middleburgunited.tithelysetup2.com/events/admin-counc
 il-meeting/2026-06-18
END:VEVENT
END:VCALENDAR
